BEGIN:VCALENDAR
VERSION:2.0
PRODID:-//ACWA JPIA - ECPv6.15.20//NONSGML v1.0//EN
CALSCALE:GREGORIAN
METHOD:PUBLISH
X-WR-CALNAME:ACWA JPIA
X-ORIGINAL-URL:https://www.acwajpia.com
X-WR-CALDESC:Events for ACWA JPIA
REFRESH-INTERVAL;VALUE=DURATION:PT1H
X-Robots-Tag:noindex
X-PUBLISHED-TTL:PT1H
BEGIN:VTIMEZONE
TZID:America/Los_Angeles
BEGIN:DAYLIGHT
TZOFFSETFROM:-0800
TZOFFSETTO:-0700
TZNAME:PDT
DTSTART:20220313T100000
END:DAYLIGHT
BEGIN:STANDARD
TZOFFSETFROM:-0700
TZOFFSETTO:-0800
TZNAME:PST
DTSTART:20221106T090000
END:STANDARD
BEGIN:DAYLIGHT
TZOFFSETFROM:-0800
TZOFFSETTO:-0700
TZNAME:PDT
DTSTART:20230312T100000
END:DAYLIGHT
BEGIN:STANDARD
TZOFFSETFROM:-0700
TZOFFSETTO:-0800
TZNAME:PST
DTSTART:20231105T090000
END:STANDARD
BEGIN:DAYLIGHT
TZOFFSETFROM:-0800
TZOFFSETTO:-0700
TZNAME:PDT
DTSTART:20240310T100000
END:DAYLIGHT
BEGIN:STANDARD
TZOFFSETFROM:-0700
TZOFFSETTO:-0800
TZNAME:PST
DTSTART:20241103T090000
END:STANDARD
BEGIN:DAYLIGHT
TZOFFSETFROM:-0800
TZOFFSETTO:-0700
TZNAME:PDT
DTSTART:20250309T100000
END:DAYLIGHT
BEGIN:STANDARD
TZOFFSETFROM:-0700
TZOFFSETTO:-0800
TZNAME:PST
DTSTART:20251102T090000
END:STANDARD
END:VTIMEZONE
BEGIN:VEVENT
DTSTART;TZID=America/Los_Angeles:20240321T083000
DTEND;TZID=America/Los_Angeles:20240321T100000
DTSTAMP:20260422T043337
CREATED:20220830T220027Z
LAST-MODIFIED:20231025T214810Z
UID:7645-1711009800-1711015200@www.acwajpia.com
SUMMARY:Executive Committee Meeting
DESCRIPTION:
URL:https://www.acwajpia.com/event/executive-committee-meeting/
LOCATION:JPIA Office – Roseville\, 2100 Professional Drive\, Roseville\, CA\, 95661\, United States
CATEGORIES:Executive Committee
END:VEVENT
BEGIN:VEVENT
DTSTART;TZID=America/Los_Angeles:20240320T150000
DTEND;TZID=America/Los_Angeles:20240320T163000
DTSTAMP:20260422T043337
CREATED:20221214T232810Z
LAST-MODIFIED:20231026T140821Z
UID:7967-1710946800-1710952200@www.acwajpia.com
SUMMARY:Property Program Committee Meeting
DESCRIPTION:
URL:https://www.acwajpia.com/event/property-program-committee-meeting-4/
LOCATION:JPIA Office – Roseville\, 2100 Professional Drive\, Roseville\, CA\, 95661\, United States
CATEGORIES:Property Program Committee
END:VEVENT
BEGIN:VEVENT
DTSTART;TZID=America/Los_Angeles:20240320T130000
DTEND;TZID=America/Los_Angeles:20240320T143000
DTSTAMP:20260422T043337
CREATED:20211118T055134Z
LAST-MODIFIED:20231026T140737Z
UID:7057-1710939600-1710945000@www.acwajpia.com
SUMMARY:Finance & Audit Committee Meeting
DESCRIPTION:
URL:https://www.acwajpia.com/event/finance-audit-committee-meeting-2/
LOCATION:JPIA Office – Roseville\, 2100 Professional Drive\, Roseville\, CA\, 95661\, United States
CATEGORIES:Finance & Audit Committee
END:VEVENT
BEGIN:VEVENT
DTSTART;TZID=America/Los_Angeles:20240320T103000
DTEND;TZID=America/Los_Angeles:20240320T120000
DTSTAMP:20260422T043337
CREATED:20211118T055428Z
LAST-MODIFIED:20231026T140703Z
UID:7059-1710930600-1710936000@www.acwajpia.com
SUMMARY:Liability Program Committee Meeting
DESCRIPTION:
URL:https://www.acwajpia.com/event/liability-program-committee-meeting/
LOCATION:JPIA Office – Roseville\, 2100 Professional Drive\, Roseville\, CA\, 95661\, United States
CATEGORIES:Liability Program Committee
END:VEVENT
BEGIN:VEVENT
DTSTART;TZID=America/Los_Angeles:20240130T080000
DTEND;TZID=America/Los_Angeles:20240130T103000
DTSTAMP:20260422T043337
CREATED:20240124T203609Z
LAST-MODIFIED:20240124T203609Z
UID:9131-1706601600-1706610600@www.acwajpia.com
SUMMARY:Strategic Planning Workshop
DESCRIPTION:
URL:https://www.acwajpia.com/event/strategic-planning-workshop-2/
LOCATION:Bahia Resort Hotel\, 998 W. Mission Bay Dr.\, San Diego\, CA\, 92109
END:VEVENT
BEGIN:VEVENT
DTSTART;TZID=America/Los_Angeles:20240130T071500
DTEND;TZID=America/Los_Angeles:20240130T090000
DTSTAMP:20260422T043337
CREATED:20240124T162505Z
LAST-MODIFIED:20240124T162505Z
UID:9124-1706598900-1706605200@www.acwajpia.com
SUMMARY:Executive Committee Meeting – Closed Session only
DESCRIPTION:
URL:https://www.acwajpia.com/event/executive-committee-meeting-closed-session-only/
LOCATION:Bahia Resort Hotel\, 998 W. Mission Bay Dr.\, San Diego\, CA\, 92109
CATEGORIES:Executive Committee
END:VEVENT
BEGIN:VEVENT
DTSTART;TZID=America/Los_Angeles:20240129T080000
DTEND;TZID=America/Los_Angeles:20240129T150000
DTSTAMP:20260422T043337
CREATED:20240124T203513Z
LAST-MODIFIED:20240124T203513Z
UID:9130-1706515200-1706540400@www.acwajpia.com
SUMMARY:Strategic Planning Workshop
DESCRIPTION:
URL:https://www.acwajpia.com/event/strategic-planning-workshop/
LOCATION:Bahia Resort Hotel\, 998 W. Mission Bay Dr.\, San Diego\, CA\, 92109
CATEGORIES:Executive Committee
END:VEVENT
BEGIN:VEVENT
DTSTART;TZID=America/Los_Angeles:20240118T070000
DTEND;TZID=America/Los_Angeles:20240118T090000
DTSTAMP:20260422T043337
CREATED:20211118T054242Z
LAST-MODIFIED:20231025T214221Z
UID:7051-1705561200-1705568400@www.acwajpia.com
SUMMARY:Executive Committee Meeting
DESCRIPTION:
URL:https://www.acwajpia.com/event/executive-committee-meeting-6/
LOCATION:JPIA Office – Roseville\, 2100 Professional Drive\, Roseville\, CA\, 95661\, United States
CATEGORIES:Executive Committee
END:VEVENT
BEGIN:VEVENT
DTSTART;TZID=America/Los_Angeles:20240117T120000
DTEND;TZID=America/Los_Angeles:20240117T133000
DTSTAMP:20260422T043337
CREATED:20221214T064737Z
LAST-MODIFIED:20231025T213958Z
UID:7952-1705492800-1705498200@www.acwajpia.com
SUMMARY:Risk Management Committee Meeting
DESCRIPTION:
URL:https://www.acwajpia.com/event/risk-management-committee-meeting/
LOCATION:JPIA Office – Roseville\, 2100 Professional Drive\, Roseville\, CA\, 95661\, United States
CATEGORIES:Risk Management Committee
END:VEVENT
BEGIN:VEVENT
DTSTART;TZID=America/Los_Angeles:20240108T090000
DTEND;TZID=America/Los_Angeles:20240108T103000
DTSTAMP:20260422T043337
CREATED:20211118T054802Z
LAST-MODIFIED:20231025T213524Z
UID:7055-1704704400-1704709800@www.acwajpia.com
SUMMARY:Personnel Committee Meeting
DESCRIPTION:
URL:https://www.acwajpia.com/event/personnel-committee-meeting-3/
LOCATION:Virtual Meeting
CATEGORIES:Personnel Committee
END:VEVENT
BEGIN:VEVENT
DTSTART;VALUE=DATE:20231231
DTEND;VALUE=DATE:20240102
DTSTAMP:20260422T043337
CREATED:20231221T160055Z
LAST-MODIFIED:20231221T160055Z
UID:9049-1704063600-1704149999@www.acwajpia.com
SUMMARY:Office Closed
DESCRIPTION:
URL:https://www.acwajpia.com/event/office-closed-3/
CATEGORIES:Office Closed
END:VEVENT
BEGIN:VEVENT
DTSTART;VALUE=DATE:20231224
DTEND;VALUE=DATE:20231226
DTSTAMP:20260422T043338
CREATED:20231221T160016Z
LAST-MODIFIED:20231221T160016Z
UID:9048-1703458800-1703545199@www.acwajpia.com
SUMMARY:Office Closed
DESCRIPTION:
URL:https://www.acwajpia.com/event/office-closed-2/
CATEGORIES:Office Closed
END:VEVENT
BEGIN:VEVENT
DTSTART;VALUE=DATE:20231221
DTEND;VALUE=DATE:20231223
DTSTAMP:20260422T043338
CREATED:20231221T155859Z
LAST-MODIFIED:20231221T155859Z
UID:9047-1703199600-1703285999@www.acwajpia.com
SUMMARY:Office Closed
DESCRIPTION:
URL:https://www.acwajpia.com/event/office-closed/
CATEGORIES:Office Closed
END:VEVENT
BEGIN:VEVENT
DTSTART;TZID=America/Los_Angeles:20231127T120000
DTEND;TZID=America/Los_Angeles:20231127T153000
DTSTAMP:20260422T043338
CREATED:20221215T015916Z
LAST-MODIFIED:20231019T170436Z
UID:7980-1701086400-1701099000@www.acwajpia.com
SUMMARY:Board of Directors' Meeting
DESCRIPTION:
URL:https://www.acwajpia.com/event/board-of-directors-meeting-2/
LOCATION:2024 Fall Conference – Palm Desert\, CA\, United States
CATEGORIES:Board of Directors,Conference
END:VEVENT
BEGIN:VEVENT
DTSTART;TZID=America/Los_Angeles:20231127T091500
DTEND;TZID=America/Los_Angeles:20231127T101500
DTSTAMP:20260422T043338
CREATED:20221215T020039Z
LAST-MODIFIED:20231019T170506Z
UID:7981-1701076500-1701080100@www.acwajpia.com
SUMMARY:Executive Committee Meeting
DESCRIPTION:
URL:https://www.acwajpia.com/event/executive-committee-meeting-10/
LOCATION:2024 Fall Conference – Palm Desert\, CA\, United States
CATEGORIES:Conference,Executive Committee
END:VEVENT
BEGIN:VEVENT
DTSTART;TZID=America/Los_Angeles:20231025T083000
DTEND;TZID=America/Los_Angeles:20231025T103000
DTSTAMP:20260422T043338
CREATED:20221215T014514Z
LAST-MODIFIED:20231019T170329Z
UID:7977-1698222600-1698229800@www.acwajpia.com
SUMMARY:Executive Committee Meeting
DESCRIPTION:
URL:https://www.acwajpia.com/event/executive-committee-meeting-9/
LOCATION:JPIA Office – Roseville\, 2100 Professional Drive\, Roseville\, CA\, 95661\, United States
CATEGORIES:Executive Committee
END:VEVENT
END:VCALENDAR